BEGIN:VCALENDAR
VERSION:2.0
PRODID:-//Світ фотографії UkrainianPhotoCamp - ECPv4.8.1//NONSGML v1.0//EN
CALSCALE:GREGORIAN
METHOD:PUBLISH
X-WR-CALNAME:Світ фотографії UkrainianPhotoCamp
X-ORIGINAL-URL:https://ukrainianphotocamp.in.ua
X-WR-CALDESC:Events for Світ фотографії UkrainianPhotoCamp
BEGIN:VEVENT
DTSTART;VALUE=DATE:20191004
DTEND;VALUE=DATE:20191007
DTSTAMP:20260422T161217
CREATED:20190911T090047Z
LAST-MODIFIED:20260420T082134Z
UID:119-1570147200-1570406399@ukrainianphotocamp.in.ua
SUMMARY:#UkrainianPhotoCamp' 19\, м. Кам’янець-Подільський
DESCRIPTION:Цього року з 4 по 6 жовтня ми відвідаємо з Вами одну з найгарніших перлин Поділля\, «місто-музей»\, яке є значним економічним\, культурним\, освітнім і туристичним осередком держави – Кам’янець-Подільський \n✳️ На Фестивалі заплановано: \n\nпонад 4 лекції та творчі зустрічі з видатними діячами фотомистецтва\nпонад 7 майстер-класів\, воркшопів та пленерів під керівництвом відомих українських фотографів\n2 конкурси під час проведення Фестивалю серед учасників з подарунками від спонсорів\nпонад 10 годин відведено на культурно-освітню програму\nгарантовані подарунки кожному учаснику від призових спонсорів та партнерів Фестивалю\nцікаве дозвілля та багато інших приємних сюрпризів від організаторів та спонсорів\n\n👥 Викладачі: \n\nПятковка Роман (м. Харків)\nЛяпін Олександр (м. Київ)\nТерік Ігор (м. Київ)\nБершадський Юрій (м. Одеса)\nОстаповський Сергій (м. Київ)\n\nФестиваль буде проходити на території готелю “Gala-Hotel” м.Кам’янець-Подільський (освітня програма\, харчування\, проживання тощо) 🌐 \n💰 Вартість участі у Фестивалі складає: \n\n4700 грн\nдля фотографів\, які приймали участь у Фестивалі попередніх років – 10% ( 4200 грн )\nдля всіх охочих\, хто бажає жити чи харчуватися окремо (екскурсії та пленери у їх рамках обов’язкові для всіх) – пишіть\, дзвоніть\, …\n\n💡 Для участі у Фестивалі необхідно сплатити до 22 вересня 50 % вартості. Тобто\, \n\n2350 грн\n2100 грн\n\nОплата здійснюється:\n💳 на картковий рахунок ПриватБанку № 5168 7573 1290 3042\n👤 Одержувач: Узніченко Віра Олександрівна\n📝 Призначення платежу: поповнення рахунку \nПісля оплати необхідно підтвердити участь\, надіславши СМС на нижче вказаний номер зі своїм ПІБ\, містом проживання і кодом: КАМ’ЯНЕЦЬ \n📞 Довідки за телефонами: \n\n+38 067 95 45 137\n+38 066 162 22 33\n\nЕл.адреса:\n✉️ Узніченко Віра <u.p.camp.ua@gmail.com> \n🔆 Якщо бажаєте: \n\nнасолодитися красою рідної землі\,\nдізнатися багато нового з історії та культури України\,\nнавчитися та підняти свій рівень у фотомистецтві\,\nмати змогу на протязі року приймати БЕЗКОШТОВНО участь у:\n\nфотовиставках в Україні та закордоном\nфотоконкурсах на протязі року\nдрукованих виданнях #UkrainianPhotoCamp ’19\n\n\nта приєднатися до нашої спільноти – приїздіть на Фестиваль 4 жовтня у незабутній КАМ’ЯНЕЦЬ‼\n\nОрганізатор: Арт-платформа ‘ДІЯ’\nОстаповський Сергій\n©Узніченко Віра \nКІЛЬКІСТЬ МІСЦЬ ОБМЕЖЕНА \n
URL:https://ukrainianphotocamp.in.ua/event/ukrainianphotocamp-2019-kamianets-podilskyi/
LOCATION:Гала Готель в Кам’янець-Подільському\, вулиця Лесі Українки\, 84\, Кам'янець-Подільський\, Хмельницька область\, 32301\, Ukraine
GEO:48.6650329;26.5790471
X-APPLE-STRUCTURED-LOCATION;VALUE=URI;X-ADDRESS=Гала Готель в Кам’янець-Подільському вулиця Лесі Українки 84 Кам'янець-Подільський Хмельницька область 32301 Ukraine;X-APPLE-RADIUS=500;X-TITLE=вулиця Лесі Українки\, 84:geo:26.5790471,48.6650329
CATEGORIES:Заходи
ORGANIZER;CN="UkrainianPhotoCamp":MAILTO:u.p.camp.ua@gmail.com
END:VEVENT
END:VCALENDAR